BEGIN:VCALENDAR
VERSION:2.0
PRODID:-//Bemus Point Golf Club &amp; Tap House - ECPv6.15.20//NONSGML v1.0//EN
CALSCALE:GREGORIAN
METHOD:PUBLISH
X-WR-CALNAME:Bemus Point Golf Club &amp; Tap House
X-ORIGINAL-URL:https://bemustaphouse.com
X-WR-CALDESC:Events for Bemus Point Golf Club &amp; Tap House
REFRESH-INTERVAL;VALUE=DURATION:PT1H
X-Robots-Tag:noindex
X-PUBLISHED-TTL:PT1H
BEGIN:VTIMEZONE
TZID:America/New_York
BEGIN:DAYLIGHT
TZOFFSETFROM:-0500
TZOFFSETTO:-0400
TZNAME:EDT
DTSTART:20250309T070000
END:DAYLIGHT
BEGIN:STANDARD
TZOFFSETFROM:-0400
TZOFFSETTO:-0500
TZNAME:EST
DTSTART:20251102T060000
END:STANDARD
BEGIN:DAYLIGHT
TZOFFSETFROM:-0500
TZOFFSETTO:-0400
TZNAME:EDT
DTSTART:20260308T070000
END:DAYLIGHT
BEGIN:STANDARD
TZOFFSETFROM:-0400
TZOFFSETTO:-0500
TZNAME:EST
DTSTART:20261101T060000
END:STANDARD
BEGIN:DAYLIGHT
TZOFFSETFROM:-0500
TZOFFSETTO:-0400
TZNAME:EDT
DTSTART:20270314T070000
END:DAYLIGHT
BEGIN:STANDARD
TZOFFSETFROM:-0400
TZOFFSETTO:-0500
TZNAME:EST
DTSTART:20271107T060000
END:STANDARD
END:VTIMEZONE
BEGIN:VEVENT
DTSTART;TZID=America/New_York:20260502T120000
DTEND;TZID=America/New_York:20260505T210000
DTSTAMP:20260424T154229
CREATED:20260421T152117Z
LAST-MODIFIED:20260421T152316Z
UID:1377-1777723200-1778014800@bemustaphouse.com
SUMMARY:Cinco de Mayo & Margarita Madness at the Bemus Point Golf Club & Tap House
DESCRIPTION:Spring is here\, and Bemus Point is coming back to life. \nAs part of Bemus is Blooming Weekend\, join us at the Bemus Point Golf Club & Tap House for a full weekend of flavor\, sunshine\, and celebration with our Cinco de Mayo & Margarita Madness event. \n📅 May 2–May 5⏰ Starting at 12PM Saturday📍 Bemus Point Golf Club & Tap House\, Bemus Point\, NY \nWe’re bringing the energy all weekend long with fresh tacos\, handcrafted margaritas\, and that easy\, laid-back feeling that makes this place special. \nSpend the day exploring the village\, stopping into local shops\, and taking in everything Chautauqua Lake has to offer\, then settle in with us on the patio\, grab a margarita\, and stay awhile. \nThis is what the start of the season feels like. \nGood food. Cold drinks. Familiar faces. A few new ones too. \nMake it part of your Bemus is Blooming weekend plans\, and come celebrate Cinco de Mayo the way it should be.
URL:https://bemustaphouse.com/event/cinco-de-mayo-margarita-madness-at-the-bemus-point-golf-club-tap-house/
LOCATION:Bemus Point Golf Club & Taphouse\, 72 Main Street\, Bemus Point\, New York\, 14712\, United States
ATTACH;FMTTYPE=image/jpeg:https://bemustaphouse.com/wp-content/uploads/2026/04/Cinco-DeMayo.jpg
END:VEVENT
END:VCALENDAR