BEGIN:VCALENDAR
VERSION:2.0
PRODID:-//Bemus Point Golf Club &amp; Tap House - ECPv6.15.20//NONSGML v1.0//EN
CALSCALE:GREGORIAN
METHOD:PUBLISH
X-WR-CALNAME:Bemus Point Golf Club &amp; Tap House
X-ORIGINAL-URL:https://bemustaphouse.com
X-WR-CALDESC:Events for Bemus Point Golf Club &amp; Tap House
REFRESH-INTERVAL;VALUE=DURATION:PT1H
X-Robots-Tag:noindex
X-PUBLISHED-TTL:PT1H
BEGIN:VTIMEZONE
TZID:America/New_York
BEGIN:DAYLIGHT
TZOFFSETFROM:-0500
TZOFFSETTO:-0400
TZNAME:EDT
DTSTART:20250309T070000
END:DAYLIGHT
BEGIN:STANDARD
TZOFFSETFROM:-0400
TZOFFSETTO:-0500
TZNAME:EST
DTSTART:20251102T060000
END:STANDARD
BEGIN:DAYLIGHT
TZOFFSETFROM:-0500
TZOFFSETTO:-0400
TZNAME:EDT
DTSTART:20260308T070000
END:DAYLIGHT
BEGIN:STANDARD
TZOFFSETFROM:-0400
TZOFFSETTO:-0500
TZNAME:EST
DTSTART:20261101T060000
END:STANDARD
BEGIN:DAYLIGHT
TZOFFSETFROM:-0500
TZOFFSETTO:-0400
TZNAME:EDT
DTSTART:20270314T070000
END:DAYLIGHT
BEGIN:STANDARD
TZOFFSETFROM:-0400
TZOFFSETTO:-0500
TZNAME:EST
DTSTART:20271107T060000
END:STANDARD
END:VTIMEZONE
BEGIN:VEVENT
DTSTART;TZID=America/New_York:20260424T203000
DTEND;TZID=America/New_York:20260424T223000
DTSTAMP:20260424T080056
CREATED:20260419T095203Z
LAST-MODIFIED:20260419T095203Z
UID:1326-1777062600-1777069800@bemustaphouse.com
SUMMARY:🤠 Line Dancing Night at the Bemus Point Golf Club & Taphouse
DESCRIPTION:Grab your boots and join us for another fun-filled night of Line-Dancing on Friday\, April 24th from 8:30PM – 10:30 PM!\nWe’re excited to have Allie Perrin back to kick things off with easy-to-follow line-dancing lessons\, it’s perfect for beginners and seasoned dancers alike. Once you’ve got the steps down\, the floor is yours! Jump in\, request your favorite songs\, and keep the party going.\nWe clear out the dining room\, push the tables aside\, and turn the space into a full-on dance floor… So\, come ready to move and have a great time!\n No experience needed NO cover charge (free event) Great music\, great people\, great moves Come ready to have fun\nBring your friends and make it a night out!! We’ll see you on the dance floor!
URL:https://bemustaphouse.com/event/%f0%9f%a4%a0-line-dancing-night-at-the-bemus-point-golf-club-taphouse/
LOCATION:Bemus Point Golf Club & Taphouse\, 72 Main Street\, Bemus Point\, New York\, 14712\, United States
ATTACH;FMTTYPE=image/jpeg:https://bemustaphouse.com/wp-content/uploads/2026/04/668593081_1798010114978361_4476235373617050571_n.jpg
END:VEVENT
BEGIN:VEVENT
DTSTART;TZID=America/New_York:20260426T100000
DTEND;TZID=America/New_York:20260426T140000
DTSTAMP:20260424T080056
CREATED:20260419T103622Z
LAST-MODIFIED:20260419T103622Z
UID:1349-1777197600-1777212000@bemustaphouse.com
SUMMARY:Sing-Along Brunch at the Bemus Point Golf Club & Taphouse
DESCRIPTION:Something pretty special has been happening on Sunday mornings at the Bemus Point Golf Club & Tap House\, and the response has honestly been incredible. \nOur very first Sing-Along Brunch packed the room. The second one sold out in just over 24 hours. \nAnd our April 12 Sing-Along Brunch is almost full\, with just a few spots still available.\nSo we decided to add another date.\n Sing-Along Ladies Brunch returns Sunday\, April 26 from 10AM-2PM with DJ Felix.\nIf you have not experienced it yet\, this is not background music brunch. This is the kind of brunch where the whole room sings. Girl anthems\, throwbacks\, and the songs everyone knows by heart. \nIt is joyful\, a little loud\, and honestly one of the most fun Sundays we host all year. \nGrab your gal pals\, warm up those vocal cords\, and get ready for a brunch that feels more like a celebration. \nYour ticket includes: Admission to the event Brunch buffet A welcome mimosa Your own party mic to sing along\nTickets are $40 per person and seating is limited.\nIf April 12 is any indication\, the April 26 brunch will fill quickly too.\n Sing-Along Ladies Brunch Sunday\, April 26 10AM-2PM Bemus Point Golf Club & Tap House\n Grab your tickets here:https://www.eventbrite.com/…/sing-along-brunch-at-the…\nGather your friends\, claim your spot\, and come be part of the brunch everyone has been talking about.
URL:https://bemustaphouse.com/event/sing-along-brunch-at-the-bemus-point-golf-club-taphouse/
LOCATION:Bemus Point Golf Club & Taphouse\, 72 Main Street\, Bemus Point\, New York\, 14712\, United States
ATTACH;FMTTYPE=image/jpeg:https://bemustaphouse.com/wp-content/uploads/2026/04/656314028_1784640872981952_3410084122901761204_n.jpg
END:VEVENT
BEGIN:VEVENT
DTSTART;TZID=America/New_York:20260502T100000
DTEND;TZID=America/New_York:20260503T200000
DTSTAMP:20260424T080056
CREATED:20260421T152847Z
LAST-MODIFIED:20260421T152847Z
UID:1383-1777716000-1777838400@bemustaphouse.com
SUMMARY:Bemus is Blooming🌸
DESCRIPTION:Join us in Bemus Point for our annual spring open house weekend\, May 2–3! \nAs the village comes back to life for the season\, local shops\, restaurants\, and businesses are reopening and ready to welcome you in. It’s the perfect time to stroll the village\, see what’s new\, and kick off spring in Bemus Point. \nYou can expect a weekend of shopping\, open houses\, food and drink specials\, and seasonal fun throughout the community. From spring sales and fresh arrivals in our shops\, to Cinco de Mayo celebrations\, Kentucky Derby parties\, live music\, and more! \nStop in at your favorite spots\, discover a few new ones\, and make a day (or weekend) of it! \nMark your calendar\, invite your friends\, and come celebrate the start of spring in Bemus Point. \nFollow along for updates and details at www.facebook.com/visitbemuspoint \nSHARE to help us spread the word… Bemus is Blooming!
URL:https://bemustaphouse.com/event/bemus-is-blooming%f0%9f%8c%b8/
LOCATION:New York
ATTACH;FMTTYPE=image/jpeg:https://bemustaphouse.com/wp-content/uploads/2026/04/670941846_942927041712840_3675755775658113954_n.jpg
END:VEVENT
BEGIN:VEVENT
DTSTART;TZID=America/New_York:20260502T120000
DTEND;TZID=America/New_York:20260505T210000
DTSTAMP:20260424T080056
CREATED:20260421T152117Z
LAST-MODIFIED:20260421T152316Z
UID:1377-1777723200-1778014800@bemustaphouse.com
SUMMARY:Cinco de Mayo & Margarita Madness at the Bemus Point Golf Club & Tap House
DESCRIPTION:Spring is here\, and Bemus Point is coming back to life. \nAs part of Bemus is Blooming Weekend\, join us at the Bemus Point Golf Club & Tap House for a full weekend of flavor\, sunshine\, and celebration with our Cinco de Mayo & Margarita Madness event. \n📅 May 2–May 5⏰ Starting at 12PM Saturday📍 Bemus Point Golf Club & Tap House\, Bemus Point\, NY \nWe’re bringing the energy all weekend long with fresh tacos\, handcrafted margaritas\, and that easy\, laid-back feeling that makes this place special. \nSpend the day exploring the village\, stopping into local shops\, and taking in everything Chautauqua Lake has to offer\, then settle in with us on the patio\, grab a margarita\, and stay awhile. \nThis is what the start of the season feels like. \nGood food. Cold drinks. Familiar faces. A few new ones too. \nMake it part of your Bemus is Blooming weekend plans\, and come celebrate Cinco de Mayo the way it should be.
URL:https://bemustaphouse.com/event/cinco-de-mayo-margarita-madness-at-the-bemus-point-golf-club-tap-house/
LOCATION:Bemus Point Golf Club & Taphouse\, 72 Main Street\, Bemus Point\, New York\, 14712\, United States
ATTACH;FMTTYPE=image/jpeg:https://bemustaphouse.com/wp-content/uploads/2026/04/Cinco-DeMayo.jpg
END:VEVENT
BEGIN:VEVENT
DTSTART;TZID=America/New_York:20260502T170000
DTEND;TZID=America/New_York:20260502T210000
DTSTAMP:20260424T080056
CREATED:20260421T152529Z
LAST-MODIFIED:20260421T152529Z
UID:1380-1777741200-1777755600@bemustaphouse.com
SUMMARY:Derby Day Celebration at the Bemus Point Golf Club & Tap House
DESCRIPTION:There’s something special about this weekend in Bemus Point. \nAs the village comes alive for Bemus is Blooming\, we’re bringing a little Southern charm to Chautauqua Lake with our Derby Day Celebration at the Bemus Point Golf Club & Tap House. \n📅 Saturday\, May 2⏰ 5PM-9PM📍 Bemus Point Golf Club & Tap House\, Bemus Point\, NY \nDress in your Sunday best\, grab your favorite Derby hat\, and settle in for an evening that feels equal parts classic and fun. \nWe’ll be serving up Mint Juleps\, celebrating the Kentucky Derby\, and carrying that spring energy all the way through the night. And because it’s Bemus is Blooming weekend\, you can make a full day of it\, shop the village\, explore what’s new\, then join us to celebrate. \nIt’s the kind of night where you show up for the race\, but stay for the people. \nA little tradition\, a lot of laughter\, and the perfect way to kick off the season together.
URL:https://bemustaphouse.com/event/derby-day-celebration-at-the-bemus-point-golf-club-tap-house/
LOCATION:Bemus Point Golf Club & Taphouse\, 72 Main Street\, Bemus Point\, New York\, 14712\, United States
ATTACH;FMTTYPE=image/jpeg:https://bemustaphouse.com/wp-content/uploads/2026/04/671900090_1803186804460692_3471116868358774684_n.jpg
END:VEVENT
BEGIN:VEVENT
DTSTART;TZID=America/New_York:20260510T100000
DTEND;TZID=America/New_York:20260510T200000
DTSTAMP:20260424T080056
CREATED:20260421T153206Z
LAST-MODIFIED:20260421T153206Z
UID:1386-1778407200-1778443200@bemustaphouse.com
SUMMARY:Mother's Day Brunch & Golf at the Bemus Point Golf Club & Tap House
DESCRIPTION:Celebrate Mother’s Day in Bemus Point with a day centered around good food\, fresh air\, and time together at the Bemus Point Golf Club & Tap House\, right near Chautauqua Lake. \n🌸 Sunday\, May 10⏰ Brunch: 10AM-2PM🍽️ Full Menu: 11AM-8PM📍 Bemus Point Golf Club & Tap House\, Bemus Point\, NY \nStart the day with a relaxed Mother’s Day brunch in Chautauqua County\, then stay and enjoy our full menu as the day unfolds. \n⛳️ Mother’s Day Special: All moms receive 50% off golf greens fees all day long\, making it the perfect way to enjoy the course and celebrate together. \nWhether you’re joining us for brunch\, heading out for a round of golf\, or spending the full day with family\, this is an easy and meaningful way to celebrate Mom in Bemus Point. \nReservations are not required\, but recommended.Call us at 716-386-2893 for details or to plan your visit. \nCome spend Mother’s Day with us. It’s the kind of day she’ll truly enjoy. 🌷
URL:https://bemustaphouse.com/event/mothers-day-brunch-golf-at-the-bemus-point-golf-club-tap-house/
LOCATION:Bemus Point Golf Club & Taphouse\, 72 Main Street\, Bemus Point\, New York\, 14712\, United States
ATTACH;FMTTYPE=image/jpeg:https://bemustaphouse.com/wp-content/uploads/2026/04/670782248_1803198771126162_3654789903309007331_n.jpg
END:VEVENT
BEGIN:VEVENT
DTSTART;TZID=America/New_York:20260522T120000
DTEND;TZID=America/New_York:20260525T200000
DTSTAMP:20260424T080056
CREATED:20260421T153651Z
LAST-MODIFIED:20260421T153651Z
UID:1389-1779451200-1779739200@bemustaphouse.com
SUMMARY:Memorial Day Weekend in Bemus Point\, NY | Bemus Point Golf Club & Tap House
DESCRIPTION:Celebrate Memorial Day Weekend in Bemus Point at the Bemus Point Golf Club & Tap House with a full lineup of live music\, golf\, food\, drinks\, and outdoor events near Chautauqua Lake. \nThis is the unofficial start of summer in Chautauqua County\, and one of the most anticipated holiday weekends in Western New York. Locals\, visitors\, lakegoers\, and families come together to enjoy everything Bemus Point has to offer. \nAll weekend long\, our outdoor music stage and gathering spaces create an open-air atmosphere that makes it easy to settle in\, slow down\, and stay awhile. \n🎶 Live music and entertainment throughout the weekend⛳️ Golf events and public tee times🍔 Full food menu and 20 craft beers on tap🧘‍♀️ Wellness activities and outdoor experiences🐾 Family-friendly and pet-friendly atmosphere \nWhether you’re looking for things to do near Chautauqua Lake\, live music in Chautauqua County\, or family-friendly Memorial Day events in Western New York\, you’ll find it here. \nLocated in the heart of Bemus Point\, NY\, the Bemus Point Golf Club & Tap House is a go-to destination for Memorial Day Weekend events\, outdoor dining\, and community connection. \nBring your friends. Bring your family. Bring your pups. \nCome be part of a weekend that feels like summer has officially arrived. ☀️🍻
URL:https://bemustaphouse.com/event/memorial-day-weekend-in-bemus-point-ny-bemus-point-golf-club-tap-house/
LOCATION:Bemus Point Golf Club & Taphouse\, 72 Main Street\, Bemus Point\, New York\, 14712\, United States
ATTACH;FMTTYPE=image/png:https://bemustaphouse.com/wp-content/uploads/2026/04/Memorial-Day-Weekend-2025.png
END:VEVENT
BEGIN:VEVENT
DTSTART;TZID=America/New_York:20260522T120000
DTEND;TZID=America/New_York:20260920T200000
DTSTAMP:20260424T080056
CREATED:20260422T120809Z
LAST-MODIFIED:20260422T120904Z
UID:1392-1779451200-1789934400@bemustaphouse.com
SUMMARY:2026 Summer Events & Live Music Schedule | Bemus Point Golf Club & Tap House | Bemus Point\, NY
DESCRIPTION:Experience the full season of live music\, events\, and outdoor entertainment in Bemus Point\, NY at the Bemus Point Golf Club & Tap House. From Memorial Day Weekend through Fall Fest in September\, our 2026 summer lineup brings together the best of Chautauqua Lake events\, local live music\, food\, drinks\, and community gatherings all in one place. \nLocated in the heart of Bemus Point near Chautauqua Lake\, the Bemus Point Golf Club & Tap House is a go-to destination for things to do in Chautauqua County all summer long. Guests can enjoy a wide variety of experiences\, including live bands\, outdoor concerts\, wellness events like Yoga & Brew and HIIT sessions\, golf outings\, festivals\, and family-friendly activities. \nOur outdoor stage and open-air gathering spaces create the perfect setting to relax\, connect\, and take in everything summer in Western New York has to offer. Whether you’re visiting for the weekend\, spending time at the lake\, or looking for live music in Bemus Point\, you’ll find something happening here all season. \nWith 20 craft beers on tap\, a full food menu\, and a welcoming\, family-friendly and pet-friendly atmosphere\, it’s easy to settle in and stay awhile. Bring your friends\, bring your family\, and bring your pups. \nThis is more than just an event lineup\, it’s where summer comes together. \nPlan your visit\, mark your calendar\, and come be part of the 2026 season at the Bemus Point Golf Club & Tap House.
URL:https://bemustaphouse.com/event/2026-summer-events-live-music-schedule-bemus-point-golf-club-tap-house-bemus-point-ny/
LOCATION:Bemus Point Golf Club & Taphouse\, 72 Main Street\, Bemus Point\, New York\, 14712\, United States
ATTACH;FMTTYPE=image/png:https://bemustaphouse.com/wp-content/uploads/2026/04/2026-3.png
END:VEVENT
END:VCALENDAR