BEGIN:VCALENDAR
VERSION:2.0
PRODID:-//Bemus Point Golf Club &amp; Tap House - ECPv6.15.20//NONSGML v1.0//EN
CALSCALE:GREGORIAN
METHOD:PUBLISH
X-WR-CALNAME:Bemus Point Golf Club &amp; Tap House
X-ORIGINAL-URL:https://bemustaphouse.com
X-WR-CALDESC:Events for Bemus Point Golf Club &amp; Tap House
REFRESH-INTERVAL;VALUE=DURATION:PT1H
X-Robots-Tag:noindex
X-PUBLISHED-TTL:PT1H
BEGIN:VTIMEZONE
TZID:America/New_York
BEGIN:DAYLIGHT
TZOFFSETFROM:-0500
TZOFFSETTO:-0400
TZNAME:EDT
DTSTART:20250309T070000
END:DAYLIGHT
BEGIN:STANDARD
TZOFFSETFROM:-0400
TZOFFSETTO:-0500
TZNAME:EST
DTSTART:20251102T060000
END:STANDARD
BEGIN:DAYLIGHT
TZOFFSETFROM:-0500
TZOFFSETTO:-0400
TZNAME:EDT
DTSTART:20260308T070000
END:DAYLIGHT
BEGIN:STANDARD
TZOFFSETFROM:-0400
TZOFFSETTO:-0500
TZNAME:EST
DTSTART:20261101T060000
END:STANDARD
BEGIN:DAYLIGHT
TZOFFSETFROM:-0500
TZOFFSETTO:-0400
TZNAME:EDT
DTSTART:20270314T070000
END:DAYLIGHT
BEGIN:STANDARD
TZOFFSETFROM:-0400
TZOFFSETTO:-0500
TZNAME:EST
DTSTART:20271107T060000
END:STANDARD
END:VTIMEZONE
BEGIN:VEVENT
DTSTART;TZID=America/New_York:20260426T100000
DTEND;TZID=America/New_York:20260426T140000
DTSTAMP:20260424T212704
CREATED:20260419T103622Z
LAST-MODIFIED:20260419T103622Z
UID:1349-1777197600-1777212000@bemustaphouse.com
SUMMARY:Sing-Along Brunch at the Bemus Point Golf Club & Taphouse
DESCRIPTION:Something pretty special has been happening on Sunday mornings at the Bemus Point Golf Club & Tap House\, and the response has honestly been incredible. \nOur very first Sing-Along Brunch packed the room. The second one sold out in just over 24 hours. \nAnd our April 12 Sing-Along Brunch is almost full\, with just a few spots still available.\nSo we decided to add another date.\n Sing-Along Ladies Brunch returns Sunday\, April 26 from 10AM-2PM with DJ Felix.\nIf you have not experienced it yet\, this is not background music brunch. This is the kind of brunch where the whole room sings. Girl anthems\, throwbacks\, and the songs everyone knows by heart. \nIt is joyful\, a little loud\, and honestly one of the most fun Sundays we host all year. \nGrab your gal pals\, warm up those vocal cords\, and get ready for a brunch that feels more like a celebration. \nYour ticket includes: Admission to the event Brunch buffet A welcome mimosa Your own party mic to sing along\nTickets are $40 per person and seating is limited.\nIf April 12 is any indication\, the April 26 brunch will fill quickly too.\n Sing-Along Ladies Brunch Sunday\, April 26 10AM-2PM Bemus Point Golf Club & Tap House\n Grab your tickets here:https://www.eventbrite.com/…/sing-along-brunch-at-the…\nGather your friends\, claim your spot\, and come be part of the brunch everyone has been talking about.
URL:https://bemustaphouse.com/event/sing-along-brunch-at-the-bemus-point-golf-club-taphouse/
LOCATION:Bemus Point Golf Club & Taphouse\, 72 Main Street\, Bemus Point\, New York\, 14712\, United States
ATTACH;FMTTYPE=image/jpeg:https://bemustaphouse.com/wp-content/uploads/2026/04/656314028_1784640872981952_3410084122901761204_n.jpg
END:VEVENT
BEGIN:VEVENT
DTSTART;TZID=America/New_York:20260424T203000
DTEND;TZID=America/New_York:20260424T223000
DTSTAMP:20260424T212704
CREATED:20260419T095203Z
LAST-MODIFIED:20260419T095203Z
UID:1326-1777062600-1777069800@bemustaphouse.com
SUMMARY:🤠 Line Dancing Night at the Bemus Point Golf Club & Taphouse
DESCRIPTION:Grab your boots and join us for another fun-filled night of Line-Dancing on Friday\, April 24th from 8:30PM – 10:30 PM!\nWe’re excited to have Allie Perrin back to kick things off with easy-to-follow line-dancing lessons\, it’s perfect for beginners and seasoned dancers alike. Once you’ve got the steps down\, the floor is yours! Jump in\, request your favorite songs\, and keep the party going.\nWe clear out the dining room\, push the tables aside\, and turn the space into a full-on dance floor… So\, come ready to move and have a great time!\n No experience needed NO cover charge (free event) Great music\, great people\, great moves Come ready to have fun\nBring your friends and make it a night out!! We’ll see you on the dance floor!
URL:https://bemustaphouse.com/event/%f0%9f%a4%a0-line-dancing-night-at-the-bemus-point-golf-club-taphouse/
LOCATION:Bemus Point Golf Club & Taphouse\, 72 Main Street\, Bemus Point\, New York\, 14712\, United States
ATTACH;FMTTYPE=image/jpeg:https://bemustaphouse.com/wp-content/uploads/2026/04/668593081_1798010114978361_4476235373617050571_n.jpg
END:VEVENT
END:VCALENDAR